
BEGIN:VCALENDAR
VERSION:2.0
PRODID:-//Vincent Bernhardt - ECPv6.15.20//NONSGML v1.0//EN
CALSCALE:GREGORIAN
METHOD:PUBLISH
X-WR-CALNAME:Vincent Bernhardt
X-ORIGINAL-URL:https://vincentbernhardt.org/en
X-WR-CALDESC:Events for Vincent Bernhardt
REFRESH-INTERVAL;VALUE=DURATION:PT1H
X-Robots-Tag:noindex
X-PUBLISHED-TTL:PT1H
BEGIN:VTIMEZONE
TZID:Europe/Paris
BEGIN:DAYLIGHT
TZOFFSETFROM:+0100
TZOFFSETTO:+0200
TZNAME:CEST
DTSTART:20210328T010000
END:DAYLIGHT
BEGIN:STANDARD
TZOFFSETFROM:+0200
TZOFFSETTO:+0100
TZNAME:CET
DTSTART:20211031T010000
END:STANDARD
BEGIN:DAYLIGHT
TZOFFSETFROM:+0100
TZOFFSETTO:+0200
TZNAME:CEST
DTSTART:20220327T010000
END:DAYLIGHT
BEGIN:STANDARD
TZOFFSETFROM:+0200
TZOFFSETTO:+0100
TZNAME:CET
DTSTART:20221030T010000
END:STANDARD
BEGIN:DAYLIGHT
TZOFFSETFROM:+0100
TZOFFSETTO:+0200
TZNAME:CEST
DTSTART:20230326T010000
END:DAYLIGHT
BEGIN:STANDARD
TZOFFSETFROM:+0200
TZOFFSETTO:+0100
TZNAME:CET
DTSTART:20231029T010000
END:STANDARD
BEGIN:DAYLIGHT
TZOFFSETFROM:+0100
TZOFFSETTO:+0200
TZNAME:CEST
DTSTART:20240331T010000
END:DAYLIGHT
BEGIN:STANDARD
TZOFFSETFROM:+0200
TZOFFSETTO:+0100
TZNAME:CET
DTSTART:20241027T010000
END:STANDARD
END:VTIMEZONE
BEGIN:VEVENT
DTSTART;TZID=Europe/Paris:20230711T203000
DTEND;TZID=Europe/Paris:20230711T203000
DTSTAMP:20260425T190938
CREATED:20221203T195506Z
LAST-MODIFIED:20221203T195506Z
UID:1919-1689107400-1689107400@vincentbernhardt.org
SUMMARY:Chamber music
DESCRIPTION:“A Celebration of Fantasy”\, a programme of 18th century works with Sue-Ying Koang (violin)\, Diana Vinagre (cello) and Parsival Castro (theorbo).
URL:https://vincentbernhardt.org/en/event/chamber-music-9/
LOCATION:Eglise Saint-Loup Servoz\, D13A\, Servoz\, 74310\, France
CATEGORIES:saison 2022-2023
END:VEVENT
BEGIN:VEVENT
DTSTART;TZID=Europe/Paris:20230701T170000
DTEND;TZID=Europe/Paris:20230701T170000
DTSTAMP:20260425T190938
CREATED:20230206T203226Z
LAST-MODIFIED:20230206T224606Z
UID:1930-1688230800-1688230800@vincentbernhardt.org
SUMMARY:Organ recital
DESCRIPTION:Nicolas de Grigny and Johann Sebastian Bach
URL:https://vincentbernhardt.org/en/event/organ-recital-10/
LOCATION:Basilique de Luxeuil-les-Bains\, 1 Pl. Saint-Pierre\, Luxeuil-les-Bains\, 70300\, France
CATEGORIES:saison 2022-2023
END:VEVENT
BEGIN:VEVENT
DTSTART;TZID=Europe/Paris:20230611T170000
DTEND;TZID=Europe/Paris:20230611T170000
DTSTAMP:20260425T190938
CREATED:20220907T145250Z
LAST-MODIFIED:20230127T231446Z
UID:1848-1686502800-1686502800@vincentbernhardt.org
SUMMARY:La Chapelle Saint-Marc
DESCRIPTION:A festive programme under the direction of Vincent Bernhardt‚ for an open-air concert with excerpts from Handel’s ‘Water music’ and Vivaldi’s concertos for the Saxon court.
URL:https://vincentbernhardt.org/en/event/la-chapelle-saint-marc-4/
LOCATION:Château de Koerich\, Rue du Château\, Koerich\, 8385\, Luxembourg
CATEGORIES:saison 2022-2023
END:VEVENT
BEGIN:VEVENT
DTSTART;TZID=Europe/Paris:20230521T170000
DTEND;TZID=Europe/Paris:20230521T170000
DTSTAMP:20260425T190938
CREATED:20220907T145229Z
LAST-MODIFIED:20220907T145229Z
UID:1847-1684688400-1684688400@vincentbernhardt.org
SUMMARY:Chamber music
DESCRIPTION:Chamber music by Antonio Vivaldi and Giuseppe Torelli‚ with violonist Sue-Ying Koang.
URL:https://vincentbernhardt.org/en/event/chamber-music-6/
LOCATION:Salle Ennéa\, Chemin du Marguery 16\, Corseaux\, 1802\, Suisse
CATEGORIES:saison 2022-2023
END:VEVENT
BEGIN:VEVENT
DTSTART;TZID=Europe/Paris:20230520T170000
DTEND;TZID=Europe/Paris:20230520T170000
DTSTAMP:20260425T190938
CREATED:20220907T145229Z
LAST-MODIFIED:20220907T145229Z
UID:1846-1684602000-1684602000@vincentbernhardt.org
SUMMARY:Chamber music
DESCRIPTION:Chamber music by Antonio Vivaldi and Giuseppe Torelli‚ with violonist Sue-Ying Koang.
URL:https://vincentbernhardt.org/en/event/chamber-music-5/
LOCATION:Eglise Sainte Croix de Carouge\, Place du Marché\, Carouge\, 1227\, Suisse
CATEGORIES:saison 2022-2023
END:VEVENT
BEGIN:VEVENT
DTSTART;TZID=Europe/Paris:20230506T190000
DTEND;TZID=Europe/Paris:20230506T190000
DTSTAMP:20260425T190938
CREATED:20230402T194849Z
LAST-MODIFIED:20230402T194946Z
UID:1941-1683399600-1683399600@vincentbernhardt.org
SUMMARY:Concertos for 2 harpsichords
DESCRIPTION:Works by Bach\, Telemann and Vivaldi\, including all Bach’s concertos for 2 harpsichords and strings. With the Bach Collegium Saarbrücken and Rainer Oster.
URL:https://vincentbernhardt.org/en/event/concertos-for-2-harpsichords/
LOCATION:Versöhnungskiche\, Poststraße 48\, Völklingen\, 66333\, Allemagne
CATEGORIES:saison 2022-2023
END:VEVENT
BEGIN:VEVENT
DTSTART;TZID=Europe/Paris:20230416T160000
DTEND;TZID=Europe/Paris:20230416T160000
DTSTAMP:20260425T190938
CREATED:20230316T193125Z
LAST-MODIFIED:20230316T194542Z
UID:1933-1681660800-1681660800@vincentbernhardt.org
SUMMARY:Organ recital
DESCRIPTION:A programme dedicated to Bach and two great composers whose works he copied : Nicolas de Grigny and Girolamo Frescobaldi.
URL:https://vincentbernhardt.org/en/event/organ-recital-11/
LOCATION:Église Notre-Dame de Vire\, Rue Notre Dame\, Vire-Normandie\, 14500\, France
CATEGORIES:saison 2022-2023
END:VEVENT
BEGIN:VEVENT
DTSTART;TZID=Europe/Paris:20230326T170000
DTEND;TZID=Europe/Paris:20230326T170000
DTSTAMP:20260425T190938
CREATED:20221114T163058Z
LAST-MODIFIED:20230127T231446Z
UID:1894-1679850000-1679850000@vincentbernhardt.org
SUMMARY:Organ recital
DESCRIPTION:Organ recital with music by J. S. Bach and by 19th and 20th century composers.
URL:https://vincentbernhardt.org/en/event/organ-recital-9/
LOCATION:Church of Heilige Dreifaltigkeit und St. Marien\, Pfarrgasse\, Lebach\, 66822\, Allemagne
CATEGORIES:saison 2022-2023
END:VEVENT
BEGIN:VEVENT
DTSTART;TZID=Europe/Paris:20230324T200000
DTEND;TZID=Europe/Paris:20230324T200000
DTSTAMP:20260425T190938
CREATED:20220907T145229Z
LAST-MODIFIED:20220907T145229Z
UID:1845-1679688000-1679688000@vincentbernhardt.org
SUMMARY:Chamber music
DESCRIPTION:With Barthold Kuijken and Jean-Pierre Pinet‚ music by Marais‚ François Couperin‚ Johann Sebastian Bach.
URL:https://vincentbernhardt.org/en/event/chamber-music-4/
LOCATION:Arsenal de Metz\, 3 Av. Ney\, Metz\, 57000\, France
CATEGORIES:saison 2022-2023
END:VEVENT
BEGIN:VEVENT
DTSTART;TZID=Europe/Paris:20230319T170000
DTEND;TZID=Europe/Paris:20230319T170000
DTSTAMP:20260425T190938
CREATED:20220907T145229Z
LAST-MODIFIED:20230127T231446Z
UID:1844-1679245200-1679245200@vincentbernhardt.org
SUMMARY:La Chapelle Saint-Marc
DESCRIPTION:A programme dedicated to concertante music with concertos from Antonio Vivaldi’s ‘Estro Armonico’ in which Vincent Bernhardt will conduct the ensemble La Chapelle Saint-Marc and play solo concertos on the new Ahrend organ.
URL:https://vincentbernhardt.org/en/event/la-chapelle-saint-marc-3/
LOCATION:Temple de Morges\, Pl. de l'Eglise 2\, Morges\, 1110\, Suisse
CATEGORIES:saison 2022-2023
END:VEVENT
BEGIN:VEVENT
DTSTART;TZID=Europe/Paris:20230312T143000
DTEND;TZID=Europe/Paris:20230312T143000
DTSTAMP:20260425T190938
CREATED:20220907T145229Z
LAST-MODIFIED:20230127T231446Z
UID:1843-1678631400-1678631400@vincentbernhardt.org
SUMMARY:A nocte temporis
DESCRIPTION:Sacred music by Bach with Reinoud van Mechelen
URL:https://vincentbernhardt.org/en/event/a-nocte-temporis-7/
LOCATION:Salle Bougie; Musée des Beaux-Arts; Montréal (Canada)\, 1380 Rue Sherbrooke O\, Montréal\, QC H3G 1J5\, Canada
CATEGORIES:saison 2022-2023
END:VEVENT
BEGIN:VEVENT
DTSTART;TZID=Europe/Paris:20230303T200000
DTEND;TZID=Europe/Paris:20230303T200000
DTSTAMP:20260425T190938
CREATED:20230316T194309Z
LAST-MODIFIED:20230316T194309Z
UID:1937-1677873600-1677873600@vincentbernhardt.org
SUMMARY:Chamber music
DESCRIPTION:Duo concert with Sue-Ying Koang\, violin. Works by J. S. Bach\, G. Torelli\, J. H. Roman and J. F. Schreivogel.
URL:https://vincentbernhardt.org/en/event/chamber-music-10/
LOCATION:Temple de Begnins\, Rue de l'Eglise 4\, Begnins\, 1268\, Suisse
CATEGORIES:saison 2022-2023
END:VEVENT
BEGIN:VEVENT
DTSTART;TZID=Europe/Paris:20230225T193000
DTEND;TZID=Europe/Paris:20230225T193000
DTSTAMP:20260425T190938
CREATED:20220907T145215Z
LAST-MODIFIED:20230202T233307Z
UID:1842-1677353400-1677353400@vincentbernhardt.org
SUMMARY:La Chapelle Saint-Marc
DESCRIPTION:An anthology of concertos by Vivaldi and Handel to celebrate the 25th anniversary of this Luxembourg ensemble‚ which Vincent Bernhardt took over the direction in 2022.
URL:https://vincentbernhardt.org/en/event/la-chapelle-saint-marc-2/
LOCATION:Philharmonie Luxembourg\, 1 Pl. de l'Europe\, Luxembourg\, 1499\, Luxembourg
CATEGORIES:saison 2022-2023
END:VEVENT
BEGIN:VEVENT
DTSTART;TZID=Europe/Paris:20230115T151500
DTEND;TZID=Europe/Paris:20230115T151500
DTSTAMP:20260425T190938
CREATED:20220907T145214Z
LAST-MODIFIED:20220907T145214Z
UID:1840-1673795700-1673795700@vincentbernhardt.org
SUMMARY:Harpsichord recital
DESCRIPTION:Works by J. S. Bach and J. Ph. Rameau.
URL:https://vincentbernhardt.org/en/event/harpsichord-recital-2/
LOCATION:Atelier du facteur d’orgues\, 31 r Jean de Beauvau\, Noviant aux Prés\, 54385\, France
CATEGORIES:saison 2022-2023
END:VEVENT
BEGIN:VEVENT
DTSTART;TZID=Europe/Paris:20230114T171500
DTEND;TZID=Europe/Paris:20230114T171500
DTSTAMP:20260425T190938
CREATED:20220907T145214Z
LAST-MODIFIED:20220907T145214Z
UID:1839-1673716500-1673716500@vincentbernhardt.org
SUMMARY:Harpsichord recital
DESCRIPTION:Works by J. S. Bach and J. Ph. Rameau.
URL:https://vincentbernhardt.org/en/event/harpsichord-recital/
LOCATION:Atelier du facteur d’orgues\, 31 r Jean de Beauvau\, Noviant aux Prés\, 54385\, France
CATEGORIES:saison 2022-2023
END:VEVENT
BEGIN:VEVENT
DTSTART;TZID=Europe/Paris:20230111T130000
DTEND;TZID=Europe/Paris:20230111T130000
DTSTAMP:20260425T190938
CREATED:20220923T190221Z
LAST-MODIFIED:20220923T190221Z
UID:1856-1673442000-1673442000@vincentbernhardt.org
SUMMARY:Lecture
DESCRIPTION:Lecture on the freedom of the performer in the instrumental music of Vivaldi.
URL:https://vincentbernhardt.org/en/event/lecture-2/
LOCATION:Hochschule für Musik und Theater München\, Arcisstraße 12\, München\, 80333\, Allemagne
CATEGORIES:saison 2022-2023
END:VEVENT
BEGIN:VEVENT
DTSTART;TZID=Europe/Paris:20221218T160000
DTEND;TZID=Europe/Paris:20221218T170000
DTSTAMP:20260425T190938
CREATED:20221129T194805Z
LAST-MODIFIED:20221129T194805Z
UID:1916-1671379200-1671382800@vincentbernhardt.org
SUMMARY:Voice and organ
DESCRIPTION:Extracts from Christmas cantatas with Laureen Stoulig-Thinnes\, soprano.
URL:https://vincentbernhardt.org/en/event/voice-and-organ-2/
LOCATION:Abbaye Sainte-Croix de Bouzonville\, 9 Rue du 27 Novembre\, Bouzonville\, 57320\, France
CATEGORIES:saison 2022-2023
END:VEVENT
BEGIN:VEVENT
DTSTART;TZID=Europe/Paris:20221218T103000
DTEND;TZID=Europe/Paris:20221218T120000
DTSTAMP:20260425T190938
CREATED:20221129T194535Z
LAST-MODIFIED:20221129T194535Z
UID:1914-1671359400-1671364800@vincentbernhardt.org
SUMMARY:Musical church service
DESCRIPTION:Cantata BWV 61\, Nun komm der Heiden Heiland
URL:https://vincentbernhardt.org/en/event/musical-church-service-2/
LOCATION:Temple Neuf\, Pl. de la Comédie\, Metz\, 57000\, France
CATEGORIES:saison 2022-2023
END:VEVENT
BEGIN:VEVENT
DTSTART;TZID=Europe/Paris:20221214T200000
DTEND;TZID=Europe/Paris:20221214T200000
DTSTAMP:20260425T190938
CREATED:20220907T145214Z
LAST-MODIFIED:20220907T145214Z
UID:1838-1671048000-1671048000@vincentbernhardt.org
SUMMARY:Bach Collegium Saarbrücken
DESCRIPTION:Concertos for two harpsichords and strings by Bach‚ with Rainer Oster.
URL:https://vincentbernhardt.org/en/event/bach-collegium-saarbrucken/
LOCATION:Großer Sendesaal des Saarländischen Rundfunks\, Franz-Mai-Straße 1\, Saarbrücken\, 66121\, Allemagne
CATEGORIES:saison 2022-2023
END:VEVENT
BEGIN:VEVENT
DTSTART;TZID=Europe/Paris:20221130T200000
DTEND;TZID=Europe/Paris:20221130T200000
DTSTAMP:20260425T190938
CREATED:20220907T145159Z
LAST-MODIFIED:20220907T145159Z
UID:1837-1669838400-1669838400@vincentbernhardt.org
SUMMARY:A nocte temporis
DESCRIPTION:Quis ego domine‚ french motets by Campra and others.
URL:https://vincentbernhardt.org/en/event/a-nocte-temporis-6/
LOCATION:Sint-Jan-de-Doperkerk\, Groot Begijnhof\, Leuven\, 3000\, Belgium
CATEGORIES:saison 2022-2023
END:VEVENT
BEGIN:VEVENT
DTSTART;TZID=Europe/Paris:20221120T170000
DTEND;TZID=Europe/Paris:20221120T170000
DTSTAMP:20260425T190938
CREATED:20221113T201904Z
LAST-MODIFIED:20221113T201904Z
UID:1884-1668963600-1668963600@vincentbernhardt.org
SUMMARY:Bach cantatas
DESCRIPTION:Sacred cantatas BWV 70\, 91 and 140.
URL:https://vincentbernhardt.org/en/event/bach-cantatas/
LOCATION:Temple de Lutry\, Pl. du Temple\, Lutry\, 1095\, Suisse
CATEGORIES:saison 2022-2023
END:VEVENT
BEGIN:VEVENT
DTSTART;TZID=Europe/Paris:20221106T103000
DTEND;TZID=Europe/Paris:20221106T170000
DTSTAMP:20260425T190938
CREATED:20221113T201018Z
LAST-MODIFIED:20221113T201018Z
UID:1882-1667730600-1667754000@vincentbernhardt.org
SUMMARY:Musical church service
DESCRIPTION:Musical worship with excerpts from Bach’s cantatas BWV 80 and 115 and instrumental works.
URL:https://vincentbernhardt.org/en/event/musical-church-service/
LOCATION:Temple Neuf\, Pl. de la Comédie\, Metz\, 57000\, France
CATEGORIES:saison 2022-2023
END:VEVENT
BEGIN:VEVENT
DTSTART;TZID=Europe/Paris:20221103T080000
DTEND;TZID=Europe/Paris:20221104T170000
DTSTAMP:20260425T190938
CREATED:20221124T120715Z
LAST-MODIFIED:20221124T120715Z
UID:1900-1667462400-1667581200@vincentbernhardt.org
SUMMARY:Recording
DESCRIPTION:CD recording of the sonatas for viola da gamba and keyboard by J. S. Bach in an original arrangement for traverso (Jean-Pierre Pinet)\, viola da spalla (Vincent Roth) and pianoforte after Cristofori (Vincent Bernhardt).
URL:https://vincentbernhardt.org/en/event/recording-5/
LOCATION:Arsenal de Metz\, 3 Av. Ney\, Metz\, 57000\, France
CATEGORIES:saison 2022-2023
END:VEVENT
BEGIN:VEVENT
DTSTART;TZID=Europe/Paris:20221028T190000
DTEND;TZID=Europe/Paris:20221028T190000
DTSTAMP:20260425T190938
CREATED:20221103T104806Z
LAST-MODIFIED:20221103T104806Z
UID:1874-1666983600-1666983600@vincentbernhardt.org
SUMMARY:Chamber music
DESCRIPTION:Italian and German baroque music with the students of the Hochschule für Musik Saar.
URL:https://vincentbernhardt.org/en/event/chamber-music-7/
LOCATION:Hochschule für Musik Saarbrücken\, Bismarckstraße 1\, Saarbrücken\, 66111\, Allemagne
CATEGORIES:saison 2022-2023
END:VEVENT
BEGIN:VEVENT
DTSTART;TZID=Europe/Paris:20221028T100000
DTEND;TZID=Europe/Paris:20221028T100000
DTSTAMP:20260425T190938
CREATED:20221103T104441Z
LAST-MODIFIED:20221103T104441Z
UID:1872-1666951200-1666951200@vincentbernhardt.org
SUMMARY:Lecture
DESCRIPTION:Spaces of Freedom in the Instrumental Music of Antonio Vivaldi
URL:https://vincentbernhardt.org/en/event/lecture-3/
LOCATION:Hochschule für Musik Saarbrücken\, Bismarckstraße 1\, Saarbrücken\, 66111\, Allemagne
CATEGORIES:saison 2022-2023
END:VEVENT
BEGIN:VEVENT
DTSTART;TZID=Europe/Paris:20221027T100000
DTEND;TZID=Europe/Paris:20221027T235900
DTSTAMP:20260425T190938
CREATED:20221103T102705Z
LAST-MODIFIED:20221103T103322Z
UID:1865-1666864800-1666915140@vincentbernhardt.org
SUMMARY:Masterclass
DESCRIPTION:Chamber music Masterclass with music of Vivaldi\, Marini and Geminiani\, including famous variations cycles on ‘La Folia’ and chamber concerto ‘La Notte’.
URL:https://vincentbernhardt.org/en/event/masterclass-2/
LOCATION:Hochschule für Musik Saarbrücken\, Bismarckstraße 1\, Saarbrücken\, 66111\, Allemagne
CATEGORIES:saison 2022-2023
END:VEVENT
BEGIN:VEVENT
DTSTART;TZID=Europe/Paris:20221023T170000
DTEND;TZID=Europe/Paris:20221023T170000
DTSTAMP:20260425T190938
CREATED:20220907T145159Z
LAST-MODIFIED:20220907T145159Z
UID:1836-1666544400-1666544400@vincentbernhardt.org
SUMMARY:La Chapelle Saint Marc
DESCRIPTION:L’ensemble de la Chapelle Saint Marc (conducted by Vincent Bernhardt) plays chamber music by Telemann and other german composers.
URL:https://vincentbernhardt.org/en/event/la-chapelle-saint-marc/
LOCATION:Église Saint-Hubert\, Rue Nicolas Goedert\, Kopstal\, 8141\, Luxembourg
CATEGORIES:saison 2022-2023
END:VEVENT
BEGIN:VEVENT
DTSTART;TZID=Europe/Paris:20221019T190000
DTEND;TZID=Europe/Paris:20221019T190000
DTSTAMP:20260425T190938
CREATED:20221103T105354Z
LAST-MODIFIED:20221103T105354Z
UID:1876-1666206000-1666206000@vincentbernhardt.org
SUMMARY:Cantata BWV 54
DESCRIPTION:Cantata ‘Wiederstehe doch der Sünde’ BWV 54 conducted by Vincent Bernhardt at the Antrittskonzert from Prof. Marion Eckstein.
URL:https://vincentbernhardt.org/en/event/cantata-bwv-54/
LOCATION:Hochschule für Musik und Darstellende Kunst Stuttgart\, Urbanstraße 25\, Stuttgart\, 70182\, Allemagne
CATEGORIES:saison 2022-2023
END:VEVENT
BEGIN:VEVENT
DTSTART;TZID=Europe/Paris:20221009T180000
DTEND;TZID=Europe/Paris:20221009T180000
DTSTAMP:20260425T190938
CREATED:20220907T145159Z
LAST-MODIFIED:20220907T145159Z
UID:1835-1665338400-1665338400@vincentbernhardt.org
SUMMARY:Organ recital
DESCRIPTION:Organ music by Bach‚ Mendelssohn and Lefébure-Wely.
URL:https://vincentbernhardt.org/en/event/organ-recital-8/
LOCATION:Église Notre-Dame et Saint Nicolas de Briançon\, 33 Rue du Temple\, Briançon\, 5100\, France
CATEGORIES:saison 2022-2023
END:VEVENT
BEGIN:VEVENT
DTSTART;TZID=Europe/Paris:20221002T163000
DTEND;TZID=Europe/Paris:20221002T163000
DTSTAMP:20260425T190938
CREATED:20220907T145159Z
LAST-MODIFIED:20220907T145159Z
UID:1834-1664728200-1664728200@vincentbernhardt.org
SUMMARY:Voice and organ
DESCRIPTION:Concert together with Laureen Stoulig‚ soprano.
URL:https://vincentbernhardt.org/en/event/voice-and-organ/
LOCATION:Eglise d’Ebersviller\, Rue principale\, Ébersviller\, 57320\, France
CATEGORIES:saison 2022-2023
END:VEVENT
END:VCALENDAR