
BEGIN:VCALENDAR
VERSION:2.0
PRODID:-//Vincent Bernhardt - ECPv6.15.20//NONSGML v1.0//EN
CALSCALE:GREGORIAN
METHOD:PUBLISH
X-ORIGINAL-URL:https://vincentbernhardt.org/en
X-WR-CALDESC:Events for Vincent Bernhardt
REFRESH-INTERVAL;VALUE=DURATION:PT1H
X-Robots-Tag:noindex
X-PUBLISHED-TTL:PT1H
BEGIN:VTIMEZONE
TZID:Europe/Paris
BEGIN:DAYLIGHT
TZOFFSETFROM:+0100
TZOFFSETTO:+0200
TZNAME:CEST
DTSTART:20230326T010000
END:DAYLIGHT
BEGIN:STANDARD
TZOFFSETFROM:+0200
TZOFFSETTO:+0100
TZNAME:CET
DTSTART:20231029T010000
END:STANDARD
BEGIN:DAYLIGHT
TZOFFSETFROM:+0100
TZOFFSETTO:+0200
TZNAME:CEST
DTSTART:20240331T010000
END:DAYLIGHT
BEGIN:STANDARD
TZOFFSETFROM:+0200
TZOFFSETTO:+0100
TZNAME:CET
DTSTART:20241027T010000
END:STANDARD
BEGIN:DAYLIGHT
TZOFFSETFROM:+0100
TZOFFSETTO:+0200
TZNAME:CEST
DTSTART:20250330T010000
END:DAYLIGHT
BEGIN:STANDARD
TZOFFSETFROM:+0200
TZOFFSETTO:+0100
TZNAME:CET
DTSTART:20251026T010000
END:STANDARD
BEGIN:DAYLIGHT
TZOFFSETFROM:+0100
TZOFFSETTO:+0200
TZNAME:CEST
DTSTART:20260329T010000
END:DAYLIGHT
BEGIN:STANDARD
TZOFFSETFROM:+0200
TZOFFSETTO:+0100
TZNAME:CET
DTSTART:20261025T010000
END:STANDARD
END:VTIMEZONE
BEGIN:VEVENT
DTSTART;TZID=Europe/Paris:20251019T170000
DTEND;TZID=Europe/Paris:20251019T190000
DTSTAMP:20260421T150553
CREATED:20241209T195851Z
LAST-MODIFIED:20250624T202030Z
UID:2101-1760893200-1760900400@vincentbernhardt.org
SUMMARY:La Chapelle Saint-Marc: Torelli & Haendel
DESCRIPTION:Sue-Ying Koang & Jasmine Eudeline\, violins\nJean Halsdorf\, cello\nParsival Castro\, theorbo\nVincent Bernhardt\, harpsichord\, organ & direction
URL:https://vincentbernhardt.org/en/event/csm-torelli-handel-fribourg-ch-2025/
LOCATION:Église des Capucins\, Rue de Morat 28\, Fribourg\, FR\, 1700\, Switzerland
CATEGORIES:saison 2025-2026
END:VEVENT
BEGIN:VEVENT
DTSTART;VALUE=DATE:20250924
DTEND;VALUE=DATE:20250925
DTSTAMP:20260421T150553
CREATED:20250624T115552Z
LAST-MODIFIED:20250624T115722Z
UID:2301-1758672000-1758758399@vincentbernhardt.org
SUMMARY:Masterclass
DESCRIPTION:
URL:https://vincentbernhardt.org/en/event/masterclass-beijing-2025/
LOCATION:Beijing Central Conservatory of Music\, Beijing\, China
CATEGORIES:saison 2025-2026
END:VEVENT
BEGIN:VEVENT
DTSTART;VALUE=DATE:20250917
DTEND;VALUE=DATE:20250920
DTSTAMP:20260421T150553
CREATED:20250624T121626Z
LAST-MODIFIED:20250624T122156Z
UID:2306-1758067200-1758326399@vincentbernhardt.org
SUMMARY:Masterclass
DESCRIPTION:
URL:https://vincentbernhardt.org/en/event/masterclass-zhejiang-2025/
LOCATION:Zhejiang Conservatory of Music\, Zhejiang\, Hangzhou\, China
CATEGORIES:saison 2025-2026
END:VEVENT
BEGIN:VEVENT
DTSTART;VALUE=DATE:20250916
DTEND;VALUE=DATE:20250917
DTSTAMP:20260421T150553
CREATED:20250624T112306Z
LAST-MODIFIED:20250624T205643Z
UID:2296-1757980800-1758067199@vincentbernhardt.org
SUMMARY:Organ masterclass
DESCRIPTION:
URL:https://vincentbernhardt.org/en/event/organ-masterclass-shanghai-2025/
LOCATION:Shanghai Conservatory of Music\, Shanghai\, China
CATEGORIES:saison 2025-2026
END:VEVENT
BEGIN:VEVENT
DTSTART;TZID=Europe/Paris:20250908T193000
DTEND;TZID=Europe/Paris:20250908T210000
DTSTAMP:20260421T150553
CREATED:20250622T125610Z
LAST-MODIFIED:20250622T125633Z
UID:2285-1757359800-1757365200@vincentbernhardt.org
SUMMARY:Organ recital
DESCRIPTION:As part of the Silbermann-Tage (Gottfried-Silbermann-Gesellschaft) \nOn the Silbermann organ from 1731\, Dresden actor and cabaret artist Tom Pauls and Stuttgart organist Vincent Bernhardt bring an extraordinary travel diary to life: with stories\, music and humor\, they embark on a fascinating and entertaining journey into the 18th century. \nSilbermanns Merckwürdigkeiten \n \n 
URL:https://vincentbernhardt.org/en/event/organ-recital-15/
LOCATION:Reinhardtsgrimma Church\, Reinhardtsgrimma\, Germany
CATEGORIES:saison 2025-2026
END:VEVENT
BEGIN:VEVENT
DTSTART;VALUE=DATE:20250906
DTEND;VALUE=DATE:20250914
DTSTAMP:20260421T150553
CREATED:20250624T083120Z
LAST-MODIFIED:20250624T111916Z
UID:2290-1757116800-1757807999@vincentbernhardt.org
SUMMARY:Jury member at the 17th International Gottfried Silbermann Organ Competition
DESCRIPTION:
URL:https://vincentbernhardt.org/en/event/jury-silbermann-competition-2025/
LOCATION:Freiberg\, Freiberg\, Sachsen\, Germany
CATEGORIES:saison 2025-2026
END:VEVENT
BEGIN:VEVENT
DTSTART;TZID=Europe/Paris:20250808T190000
DTEND;TZID=Europe/Paris:20250808T203000
DTSTAMP:20260421T150553
CREATED:20250622T123740Z
LAST-MODIFIED:20250622T123740Z
UID:2281-1754679600-1754685000@vincentbernhardt.org
SUMMARY:Organ recital
DESCRIPTION:Works by G. P. Palestrina\, J. P. Sweelinck\, G. Cavazzoni\, G. Frescobaldi\, R. Giovanello
URL:https://vincentbernhardt.org/en/event/organ-recital-14/
LOCATION:Franciscan Church\, Kretinga\, Lithuania
CATEGORIES:saison 2024-2025
END:VEVENT
BEGIN:VEVENT
DTSTART;TZID=Europe/Paris:20250629T170000
DTEND;TZID=Europe/Paris:20250629T190000
DTSTAMP:20260421T150553
CREATED:20241209T200945Z
LAST-MODIFIED:20250624T205554Z
UID:2108-1751216400-1751223600@vincentbernhardt.org
SUMMARY:La Chapelle Saint-Marc: Handel Organ Concertos
DESCRIPTION:G. F. Haendel Organ Concertos \nLa Chapelle Saint-Marc\nVincent Bernhardt\, organ & direction
URL:https://vincentbernhardt.org/en/event/csm-handel-organ-concertos-st-quirin-2025/
LOCATION:Église de Saint-Quirin\, Saint-Quirin\, 57\, France
CATEGORIES:saison 2024-2025
END:VEVENT
BEGIN:VEVENT
DTSTART;VALUE=DATE:20250626
DTEND;VALUE=DATE:20250627
DTSTAMP:20260421T150553
CREATED:20250305T164153Z
LAST-MODIFIED:20250305T164153Z
UID:2117-1750896000-1750982399@vincentbernhardt.org
SUMMARY:Organ and Harpsichord Masterclass
DESCRIPTION:
URL:https://vincentbernhardt.org/en/event/organ-and-harpsichord-masterclass/
LOCATION:Église de Saint-Quirin\, Saint-Quirin\, 57\, France
CATEGORIES:saison 2024-2025
END:VEVENT
BEGIN:VEVENT
DTSTART;TZID=Europe/Paris:20250530T193000
DTEND;TZID=Europe/Paris:20250530T210000
DTSTAMP:20260421T150553
CREATED:20241209T193755Z
LAST-MODIFIED:20250624T205621Z
UID:2099-1748633400-1748638800@vincentbernhardt.org
SUMMARY:La Chapelle Saint-Marc: Haendel Organ Concertos
DESCRIPTION:Les Concerts-Causeries de Chailly
URL:https://vincentbernhardt.org/en/event/csm-haendel-organ-concertos-ccc-2025/
LOCATION:Temple de Chailly\, Avenue du Temple 2\, Lausanne\, 1012\, Switzerland
CATEGORIES:saison 2024-2025
END:VEVENT
BEGIN:VEVENT
DTSTART;VALUE=DATE:20250424
DTEND;VALUE=DATE:20250428
DTSTAMP:20260421T150553
CREATED:20241209T200314Z
LAST-MODIFIED:20241209T201524Z
UID:2106-1745452800-1745798399@vincentbernhardt.org
SUMMARY:Stuttgarter Orgelakademie 2025
DESCRIPTION:International organ workshop with organ teachers from HMDK Stuttgart and guest professor Andrea Marcon.
URL:https://vincentbernhardt.org/en/event/stuttgarter-orgelakademie-2025/
LOCATION:HMDK Stuttgart\, Stuttgart\, Germany
CATEGORIES:saison 2024-2025
END:VEVENT
BEGIN:VEVENT
DTSTART;TZID=Europe/Paris:20250330T183000
DTEND;TZID=Europe/Paris:20250330T200000
DTSTAMP:20260421T150553
CREATED:20250325T125000Z
LAST-MODIFIED:20250325T125000Z
UID:2133-1743359400-1743364800@vincentbernhardt.org
SUMMARY:Organ Recital
DESCRIPTION:
URL:https://vincentbernhardt.org/en/event/organ-recital-13/
LOCATION:Temple de Morges\, Pl. de l'Eglise 2\, Morges\, 1110\, Suisse
CATEGORIES:saison 2024-2025
END:VEVENT
BEGIN:VEVENT
DTSTART;TZID=Europe/Paris:20250327T193000
DTEND;TZID=Europe/Paris:20250327T210000
DTSTAMP:20260421T150553
CREATED:20241209T193306Z
LAST-MODIFIED:20250625T093500Z
UID:2096-1743103800-1743109200@vincentbernhardt.org
SUMMARY:Chamber music
DESCRIPTION:Works by Corelli\, Lonati & Torelli \nSue-Ying Koang\, violin\nVincent Bernhardt\, harpsichord \nLes Concerts-Causeries de Chailly
URL:https://vincentbernhardt.org/en/event/ccc-lonati-2025/
LOCATION:Temple de Chailly\, Avenue du Temple 2\, Lausanne\, 1012\, Switzerland
CATEGORIES:saison 2024-2025
END:VEVENT
BEGIN:VEVENT
DTSTART;VALUE=DATE:20250111
DTEND;VALUE=DATE:20250112
DTSTAMP:20260421T150553
CREATED:20241209T192742Z
LAST-MODIFIED:20241209T192742Z
UID:2094-1736553600-1736639999@vincentbernhardt.org
SUMMARY:Tag der Kirchenmusik
DESCRIPTION:Presentation of the HMDK’s teaching offer in the field of church music
URL:https://vincentbernhardt.org/en/event/tag-der-kirchenmusik/
LOCATION:HMDK Stuttgart\, Stuttgart\, Germany
CATEGORIES:saison 2024-2025
END:VEVENT
BEGIN:VEVENT
DTSTART;TZID=Europe/Paris:20241128T193000
DTEND;TZID=Europe/Paris:20241128T210000
DTSTAMP:20260421T150553
CREATED:20240913T100218Z
LAST-MODIFIED:20240913T100218Z
UID:2071-1732822200-1732827600@vincentbernhardt.org
SUMMARY:J.H. Roman: The father of Swedish Music - Release concert
DESCRIPTION:Release concert of the album “Johan Helmich Roman: A Violino Solo” \nSue-Ying Koang\, violin\nVincent Bernhardt\, harpsichord \nalta-musica.com/#concerts
URL:https://vincentbernhardt.org/en/event/j-h-roman-the-father-of-swedish-music-release-concert/
LOCATION:Temple de Chailly\, Avenue du Temple 2\, Lausanne\, 1012\, Switzerland
CATEGORIES:saison 2024-2025
END:VEVENT
BEGIN:VEVENT
DTSTART;TZID=Europe/Paris:20241027T180000
DTEND;TZID=Europe/Paris:20241027T200000
DTSTAMP:20260421T150553
CREATED:20241109T065522Z
LAST-MODIFIED:20241109T065522Z
UID:2089-1730052000-1730059200@vincentbernhardt.org
SUMMARY:Freiburger Barockorchester
DESCRIPTION:Brandenburg concertos
URL:https://vincentbernhardt.org/en/event/freiburger-barockorchester/
LOCATION:Great Amber Concert Hall\, Liepāja\, Latvia
CATEGORIES:saison 2024-2025
END:VEVENT
BEGIN:VEVENT
DTSTART;VALUE=DATE:20241021
DTEND;VALUE=DATE:20241022
DTSTAMP:20260421T150553
CREATED:20241109T064612Z
LAST-MODIFIED:20241109T065319Z
UID:2082-1729468800-1729555199@vincentbernhardt.org
SUMMARY:Organ Day
DESCRIPTION:Inauguration of Michel Jurine’s Cavaillé-Coll style organ.\n5 mini-concerts
URL:https://vincentbernhardt.org/en/event/organ-day/
LOCATION:HMDK Stuttgart\, Stuttgart\, Germany
CATEGORIES:saison 2024-2025
END:VEVENT
BEGIN:VEVENT
DTSTART;TZID=Europe/Paris:20241020T170000
DTEND;TZID=Europe/Paris:20241020T190000
DTSTAMP:20260421T150553
CREATED:20240828T190748Z
LAST-MODIFIED:20240828T190748Z
UID:2063-1729443600-1729450800@vincentbernhardt.org
SUMMARY:G. Torelli: Travels of a Bolognese violinist - La Chapelle Saint-Marc
DESCRIPTION:La Chapelle Saint-Marc \nSue-Ying Koang & Jasmine Eudeline\, violins\nJean Halsdorf\, cello\nParsival Castro\, theorbo\nVincent Bernhardt\, harpsichord\, organ & direction \nOpening concert of the “Concerts-Causeries de Chailly”
URL:https://vincentbernhardt.org/en/event/g-torelli-travels-of-a-bolognese-violinist-la-chapelle-saint-marc/
LOCATION:Temple de Chailly\, Avenue du Temple 2\, Lausanne\, 1012\, Switzerland
CATEGORIES:saison 2024-2025
END:VEVENT
BEGIN:VEVENT
DTSTART;TZID=Europe/Paris:20241019T110000
DTEND;TZID=Europe/Paris:20241019T120000
DTSTAMP:20260421T150553
CREATED:20240829T094715Z
LAST-MODIFIED:20240829T094715Z
UID:2067-1729335600-1729339200@vincentbernhardt.org
SUMMARY:"Les Concerts-Causeries de Chailly" season preview
DESCRIPTION:Free admission \nWith Sue-Ying Koang & Vincent Bernhardt
URL:https://vincentbernhardt.org/en/event/les-concerts-causeries-de-chailly-season-preview/
LOCATION:Payot Bookshop\, Place Pépinet 4\, Lausanne\, 1003\, Switzerland
CATEGORIES:saison 2024-2025
END:VEVENT
BEGIN:VEVENT
DTSTART;TZID=Europe/Paris:20241006T160000
DTEND;TZID=Europe/Paris:20241006T180000
DTSTAMP:20260421T150553
CREATED:20240828T182606Z
LAST-MODIFIED:20240828T182622Z
UID:2058-1728230400-1728237600@vincentbernhardt.org
SUMMARY:Torelli - Vivaldi : vom Meister zum Schüler - La Chapelle Saint-Marc
DESCRIPTION:Sue-Ying Koang & Jasmine Eudeline\, violins\nJean Halsdorf\, cello\nParsival Castro\, theorbo\nVincent Bernhardt\, harpsichord\, organ & direction
URL:https://vincentbernhardt.org/en/event/torelli-vivaldi-vom-meister-zum-schuler-la-chapelle-saint-marc/
LOCATION:Chapelle Sainte-Anne\, 15 rue Sainte-Anne\, Toulouse\, 31000\, France
CATEGORIES:saison 2024-2025
END:VEVENT
BEGIN:VEVENT
DTSTART;VALUE=DATE:20241001
DTEND;VALUE=DATE:20241006
DTSTAMP:20260421T150553
CREATED:20241108T180408Z
LAST-MODIFIED:20250624T111813Z
UID:2075-1727740800-1728172799@vincentbernhardt.org
SUMMARY:Jury member at the 14th Toulouse International Organ Competition
DESCRIPTION:
URL:https://vincentbernhardt.org/en/event/jury-toulouse-competition-2024/
LOCATION:Toulouse
CATEGORIES:saison 2024-2025
END:VEVENT
BEGIN:VEVENT
DTSTART;TZID=Europe/Paris:20240615T180000
DTEND;TZID=Europe/Paris:20240615T193000
DTSTAMP:20260421T150553
CREATED:20240108T204719Z
LAST-MODIFIED:20240108T204719Z
UID:1984-1718474400-1718479800@vincentbernhardt.org
SUMMARY:Organ recital
DESCRIPTION:
URL:https://vincentbernhardt.org/en/event/organ-recital-12/
LOCATION:Cathédrale de Genève\, Cour Saint-Pierre\, Genève\, 1204\, Switzerland
CATEGORIES:saison 2023-2024
END:VEVENT
BEGIN:VEVENT
DTSTART;TZID=Europe/Paris:20240602T170000
DTEND;TZID=Europe/Paris:20240602T183000
DTSTAMP:20260421T150553
CREATED:20240314T170607Z
LAST-MODIFIED:20240314T170607Z
UID:2020-1717347600-1717353000@vincentbernhardt.org
SUMMARY:Concerts-Causeries de Chailly 2024 - The four seasons
DESCRIPTION:A. Vivaldi: The four seasons \nSue-Ying Koang\, violin\nLa Chapelle Saint-Marc
URL:https://vincentbernhardt.org/en/event/ccc24-03/
LOCATION:Temple de Chailly\, Avenue du Temple 2\, Lausanne\, 1012\, Switzerland
CATEGORIES:saison 2023-2024
END:VEVENT
BEGIN:VEVENT
DTSTART;TZID=Europe/Paris:20240519T170000
DTEND;TZID=Europe/Paris:20240519T183000
DTSTAMP:20260421T150553
CREATED:20240314T165953Z
LAST-MODIFIED:20240314T165953Z
UID:2018-1716138000-1716143400@vincentbernhardt.org
SUMMARY:Concerts-Causeries de Chailly 2024 - JS Bach
DESCRIPTION:With Sue-Ying Koang\, violin \nSonatas for violin and obbligato cembalo by J.S. Bach
URL:https://vincentbernhardt.org/en/event/concerts-causeries-de-chailly-2024-js-bach/
LOCATION:Temple de Chailly\, Avenue du Temple 2\, Lausanne\, 1012\, Switzerland
CATEGORIES:saison 2023-2024
END:VEVENT
BEGIN:VEVENT
DTSTART;TZID=Europe/Paris:20240517T190000
DTEND;TZID=Europe/Paris:20240517T210000
DTSTAMP:20260421T150553
CREATED:20240407T090211Z
LAST-MODIFIED:20240407T090211Z
UID:2026-1715972400-1715979600@vincentbernhardt.org
SUMMARY:La Chapelle Saint-Marc - Saint Salvator's Chapel Choir
DESCRIPTION:Vivaldi\, Durante\, Bach\nVincent Bernhardt\, direction
URL:https://vincentbernhardt.org/en/event/la-chapelle-saint-marc-saint-salvators-chapel-choir-2/
LOCATION:Eglise de Bridel\, Bridel Kopstal\, 8141\, Luxembourg
CATEGORIES:saison 2023-2024
END:VEVENT
BEGIN:VEVENT
DTSTART;TZID=Europe/Paris:20240516T200000
DTEND;TZID=Europe/Paris:20240516T220000
DTSTAMP:20260421T150553
CREATED:20240314T192747Z
LAST-MODIFIED:20240314T193122Z
UID:2022-1715889600-1715896800@vincentbernhardt.org
SUMMARY:La Chapelle Saint-Marc - Saint Salvator's Chapel Choir
DESCRIPTION:Vivaldi\, Durante\, Bach\nVincent Bernhardt\, direction
URL:https://vincentbernhardt.org/en/event/la-chapelle-saint-marc-saint-salvators-chapel-choir/
LOCATION:Temple Neuf\, Pl. de la Comédie\, Metz\, 57000\, France
CATEGORIES:saison 2023-2024
END:VEVENT
BEGIN:VEVENT
DTSTART;TZID=Europe/Paris:20240421T170000
DTEND;TZID=Europe/Paris:20240421T183000
DTSTAMP:20260421T150553
CREATED:20240314T163133Z
LAST-MODIFIED:20240314T165527Z
UID:2010-1713718800-1713724200@vincentbernhardt.org
SUMMARY:Concerts-Causeries de Chailly 2024 - Dalla biblioteca di Vivaldi?
DESCRIPTION:Dalla biblioteca di Vivaldi? with Sue-Ying Koang\, violin \nOpening concert of Les Concerts-Causeries de Chailly
URL:https://vincentbernhardt.org/en/event/ccc24-01/
LOCATION:Temple de Chailly\, Avenue du Temple 2\, Lausanne\, 1012\, Switzerland
CATEGORIES:saison 2023-2024
END:VEVENT
BEGIN:VEVENT
DTSTART;TZID=Europe/Paris:20240405T110000
DTEND;TZID=Europe/Paris:20240405T120000
DTSTAMP:20260421T150553
CREATED:20221127T174906Z
LAST-MODIFIED:20221127T174906Z
UID:1909-1712314800-1712318400@vincentbernhardt.org
SUMMARY:Chamber music
DESCRIPTION:Duo recital with Sue-Ying Koang\, violin\, on the programme of the recently recorded album of sonatas for violin and keyboard by Johann Erst Bach.
URL:https://vincentbernhardt.org/en/event/chamber-music-8/
LOCATION:Salle des Boiseries\, 27 Av. Jean-Paul II\, Paray-le-Monial\, 71600\, France
CATEGORIES:saison 2023-2024
END:VEVENT
BEGIN:VEVENT
DTSTART;TZID=Europe/Paris:20240211T170000
DTEND;TZID=Europe/Paris:20240211T170000
DTSTAMP:20260421T150553
CREATED:20221113T204013Z
LAST-MODIFIED:20221113T204013Z
UID:1890-1707670800-1707670800@vincentbernhardt.org
SUMMARY:Harpsichord recital
DESCRIPTION:Works by J. S. Bach on an exceptional harpsichord in 16′.
URL:https://vincentbernhardt.org/en/event/harpsichord-recital-3/
LOCATION:Kirche St. Mangen\, Kirchgasse 17\, St. Gallen\, SG\, 9000\, Switzerland
CATEGORIES:saison 2023-2024
END:VEVENT
BEGIN:VEVENT
DTSTART;TZID=Europe/Paris:20240128T170000
DTEND;TZID=Europe/Paris:20240128T183000
DTSTAMP:20260421T150553
CREATED:20240108T205918Z
LAST-MODIFIED:20240108T205918Z
UID:1988-1706461200-1706466600@vincentbernhardt.org
SUMMARY:Chamber Music
DESCRIPTION:Les fabuleux voyages de Monsieur Pisendel \nLa Chapelle Saint-Marc : \nSue-Ying Koang\, violin ; Vincent Bernhardt\, harpsichord ; Jean Halsdorf\, cello; Parsival Castro\, theorbo
URL:https://vincentbernhardt.org/en/event/chamber-music-11/
LOCATION:Église romane de Saint-Sulpice\, VD\, Chemin du Crêt 10\, Saint-Sulpice\, VD\, 1025\, Switzerland
CATEGORIES:saison 2023-2024
END:VEVENT
END:VCALENDAR